Workbook

Sheet Sheet1
B1: Basic | D1: FOAM (ml or gm) | F1: Bhuna | H1: =D1 -> FOAM (ml or gm) | J1: Madras | L1: =H1 -> FOAM (ml or gm) | N1: Vindaloo | P1: =L1 -> FOAM (ml or gm)
A2: Oil | B2: 1 | C2: chsp | D2: =HLOOKUP(C2,Sheet2!$1:$16,MATCH(B2,Sheet2!$A:$A,0),FALSE) -> 52.5 | F2: 1 | G2: chsp | H2: =HLOOKUP(G2,Sheet2!$1:$16,MATCH(F2,Sheet2!$A:$A,0),FALSE) -> 52.5 | J2: 2 | K2: tbsp | L2: =HLOOKUP(K2,Sheet2!$1:$16,MATCH(J2,Sheet2!$A:$A,0),FALSE) -> 30 | N2: ¼ | O2: chsp | P2: =HLOOKUP(O2,Sheet2!$1:$16,MATCH(N2,Sheet2!$A:$A,0),FALSE) -> 13.125
A3: Ghee | B3: 1 | C3: tsp | D3: =HLOOKUP(C3,Sheet2!$1:$16,MATCH(B3,Sheet2!$A:$A,0),FALSE) -> 5 | F3: 1 | G3: tsp | H3: =HLOOKUP(G3,Sheet2!$1:$16,MATCH(F3,Sheet2!$A:$A,0),FALSE) -> 5 | J3: 1 | K3: tsp | L3: =HLOOKUP(K3,Sheet2!$1:$16,MATCH(J3,Sheet2!$A:$A,0),FALSE) -> 5 | N3: ¾ | O3: chsp | P3: =HLOOKUP(O3,Sheet2!$1:$16,MATCH(N3,Sheet2!$A:$A,0),FALSE) -> 39.375
A4: Garlic | B4: ½ | C4: tsp | D4: =HLOOKUP(C4,Sheet2!$1:$16,MATCH(B4,Sheet2!$A:$A,0),FALSE) -> 2.5 | F4: 1 | G4: tsp | H4: =HLOOKUP(G4,Sheet2!$1:$16,MATCH(F4,Sheet2!$A:$A,0),FALSE) -> 5 | J4: 1 | K4: tsp | L4: =HLOOKUP(K4,Sheet2!$1:$16,MATCH(J4,Sheet2!$A:$A,0),FALSE) -> 5 | N4: 1⅓ | O4: tsp | P4: =HLOOKUP(O4,Sheet2!$1:$16,MATCH(N4,Sheet2!$A:$A,0),FALSE) -> 6.665
A5: Onion | B5: ⅕ | C5: cup | D5: =HLOOKUP(C5,Sheet2!$1:$16,MATCH(B5,Sheet2!$A:$A,0),FALSE) -> 48 | F5: 1½ | G5: chsp | H5: =HLOOKUP(G5,Sheet2!$1:$16,MATCH(F5,Sheet2!$A:$A,0),FALSE) -> 78.75 | J5: 2 | K5: tbsp | L5: =HLOOKUP(K5,Sheet2!$1:$16,MATCH(J5,Sheet2!$A:$A,0),FALSE) -> 30 | N5: ⅓ | O5: chsp | P5: =HLOOKUP(O5,Sheet2!$1:$16,MATCH(N5,Sheet2!$A:$A,0),FALSE) -> 17.4825
A6: Salt | B6: ¼ | C6: tsp | D6: =HLOOKUP(C6,Sheet2!$1:$16,MATCH(B6,Sheet2!$A:$A,0),FALSE) -> 1.25 | F6: ½ | G6: tsp | H6: =HLOOKUP(G6,Sheet2!$1:$16,MATCH(F6,Sheet2!$A:$A,0),FALSE) -> 2.5 | J6: ⅓ | K6: tsp | L6: =HLOOKUP(K6,Sheet2!$1:$16,MATCH(J6,Sheet2!$A:$A,0),FALSE) -> 1.665 | N6: ¼ | O6: tsp | P6: =HLOOKUP(O6,Sheet2!$1:$16,MATCH(N6,Sheet2!$A:$A,0),FALSE) -> 1.25
A7: Purée | B7: 1 | C7: tbsp | D7: =HLOOKUP(C7,Sheet2!$1:$16,MATCH(B7,Sheet2!$A:$A,0),FALSE) -> 15 | F7: 1 | G7: chsp | H7: =HLOOKUP(G7,Sheet2!$1:$16,MATCH(F7,Sheet2!$A:$A,0),FALSE) -> 52.5 | J7: 1 | K7: tbsp | L7: =HLOOKUP(K7,Sheet2!$1:$16,MATCH(J7,Sheet2!$A:$A,0),FALSE) -> 15 | N7: ½ | O7: chsp | P7: =HLOOKUP(O7,Sheet2!$1:$16,MATCH(N7,Sheet2!$A:$A,0),FALSE) -> 26.25
A8: Spice mix | B8: ½ | C8: tsp | D8: =HLOOKUP(C8,Sheet2!$1:$16,MATCH(B8,Sheet2!$A:$A,0),FALSE) -> 2.5 | F8: ⅔ | G8: tsp | H8: =HLOOKUP(G8,Sheet2!$1:$16,MATCH(F8,Sheet2!$A:$A,0),FALSE) -> 3.335 | J8: 1 | K8: tsp | L8: =HLOOKUP(K8,Sheet2!$1:$16,MATCH(J8,Sheet2!$A:$A,0),FALSE) -> 5 | N8: ½ | O8: tsp | P8: =HLOOKUP(O8,Sheet2!$1:$16,MATCH(N8,Sheet2!$A:$A,0),FALSE) -> 2.5
A9: Kasoori methi | B9: 1 | C9: good pinch | D9: =HLOOKUP(C9,Sheet2!$1:$16,MATCH(B9,Sheet2!$A:$A,0),FALSE) -> 7.5 | F9: 1–2 | G9: tsp | H9: =HLOOKUP(G9,Sheet2!$1:$16,MATCH(F9,Sheet2!$A:$A,0),FALSE) -> 5–10 | J9: 1 | K9: tsp | L9: =HLOOKUP(K9,Sheet2!$1:$16,MATCH(J9,Sheet2!$A:$A,0),FALSE) -> 5 | N9: ½ | O9: tsp | P9: =HLOOKUP(O9,Sheet2!$1:$16,MATCH(N9,Sheet2!$A:$A,0),FALSE) -> 2.5
A10: Chillies/paprika | B10: $n$ | C10: optional | D10: =HLOOKUP(C10,Sheet2!$1:$16,MATCH(B10,Sheet2!$A:$A,0),FALSE) -> $n$ (optional) | F10: ½ | G10: tsp | H10: =HLOOKUP(G10,Sheet2!$1:$16,MATCH(F10,Sheet2!$A:$A,0),FALSE) -> 2.5 | J10: 1+ | K10: tsp | L10: =HLOOKUP(K10,Sheet2!$1:$16,MATCH(J10,Sheet2!$A:$A,0),FALSE) -> 5+ | N10: 0 | O10: units | P10: =HLOOKUP(O10,Sheet2!$1:$16,MATCH(N10,Sheet2!$A:$A,0),FALSE) -> 0
A11: Chilli paste | B11: 0 | C11: units | D11: =HLOOKUP(C11,Sheet2!$1:$16,MATCH(B11,Sheet2!$A:$A,0),FALSE) -> 0 | F11: 0 | G11: units | H11: =HLOOKUP(G11,Sheet2!$1:$16,MATCH(F11,Sheet2!$A:$A,0),FALSE) -> 0 | J11: 0 | K11: units | L11: =HLOOKUP(K11,Sheet2!$1:$16,MATCH(J11,Sheet2!$A:$A,0),FALSE) -> 0 | N11: 2 | O11: chsp | P11: =HLOOKUP(O11,Sheet2!$1:$16,MATCH(N11,Sheet2!$A:$A,0),FALSE) -> 105
A12: Base | B12: 3½ | C12: ladles | D12: =HLOOKUP(C12,Sheet2!$1:$16,MATCH(B12,Sheet2!$A:$A,0),FALSE) -> 280 | F12: 3½ | G12: ladles | H12: =HLOOKUP(G12,Sheet2!$1:$16,MATCH(F12,Sheet2!$A:$A,0),FALSE) -> 280 | J12: 3½ | K12: ladles | L12: =HLOOKUP(K12,Sheet2!$1:$16,MATCH(J12,Sheet2!$A:$A,0),FALSE) -> 280 | N12: ½ | O12: ladle | P12: =HLOOKUP(O12,Sheet2!$1:$16,MATCH(N12,Sheet2!$A:$A,0),FALSE) -> 40
A13: Green chillies | B13: $n$ | C13: optional | D13: =HLOOKUP(C13,Sheet2!$1:$16,MATCH(B13,Sheet2!$A:$A,0),FALSE) -> $n$ (optional) | F13: 0 | G13: units | H13: =HLOOKUP(G13,Sheet2!$1:$16,MATCH(F13,Sheet2!$A:$A,0),FALSE) -> 0 | J13: 0 | K13: units | L13: =HLOOKUP(K13,Sheet2!$1:$16,MATCH(J13,Sheet2!$A:$A,0),FALSE) -> 0 | N13: 2 | O13: optional | P13: =HLOOKUP(O13,Sheet2!$1:$16,MATCH(N13,Sheet2!$A:$A,0),FALSE) -> 2 (optional)

Sheet Sheet2
B1: units | C1: optional | D1: tsp | E1: good pinch | F1: tbsp | G1: chsp | H1: ladle | I1: ladles | J1: cup
A2: 0 | B2: =A2*VLOOKUP(B1,Sheet3!A:B,2,FALSE) -> 0 | C2: =$A2 & " (optional)" -> 0 (optional) | D2: =$B2*VLOOKUP(D$1,Sheet3!$A:$B,2,FALSE) -> 0 | E2: =$B2*VLOOKUP(E$1,Sheet3!$A:$B,2,FALSE) -> 0 | F2: =$B2*VLOOKUP(F$1,Sheet3!$A:$B,2,FALSE) -> 0 | G2: =$B2*VLOOKUP(G$1,Sheet3!$A:$B,2,FALSE) -> 0 | H2: =$B2*VLOOKUP(H$1,Sheet3!$A:$B,2,FALSE) -> 0 | I2: =$B2*VLOOKUP(I$1,Sheet3!$A:$B,2,FALSE) -> 0 | J2: =$B2*VLOOKUP(J$1,Sheet3!$A:$B,2,FALSE) -> 0
A3: ⅕ | B3: 0.2 | C3: =$A3 & " (optional)" -> ⅕ (optional) | D3: =$B3*VLOOKUP(D$1,Sheet3!$A:$B,2,FALSE) -> 1 | E3: =$B3*VLOOKUP(E$1,Sheet3!$A:$B,2,FALSE) -> 1.5 | F3: =$B3*VLOOKUP(F$1,Sheet3!$A:$B,2,FALSE) -> 3 | G3: =$B3*VLOOKUP(G$1,Sheet3!$A:$B,2,FALSE) -> 10.5 | H3: =$B3*VLOOKUP(H$1,Sheet3!$A:$B,2,FALSE) -> 16 | I3: =$B3*VLOOKUP(I$1,Sheet3!$A:$B,2,FALSE) -> 16 | J3: =$B3*VLOOKUP(J$1,Sheet3!$A:$B,2,FALSE) -> 48
A4: ¼ | B4: 0.25 | C4: =$A4 & " (optional)" -> ¼ (optional) | D4: =$B4*VLOOKUP(D$1,Sheet3!$A:$B,2,FALSE) -> 1.25 | E4: =$B4*VLOOKUP(E$1,Sheet3!$A:$B,2,FALSE) -> 1.875 | F4: =$B4*VLOOKUP(F$1,Sheet3!$A:$B,2,FALSE) -> 3.75 | G4: =$B4*VLOOKUP(G$1,Sheet3!$A:$B,2,FALSE) -> 13.125 | H4: =$B4*VLOOKUP(H$1,Sheet3!$A:$B,2,FALSE) -> 20 | I4: =$B4*VLOOKUP(I$1,Sheet3!$A:$B,2,FALSE) -> 20 | J4: =$B4*VLOOKUP(J$1,Sheet3!$A:$B,2,FALSE) -> 60
A5: ⅓ | B5: 0.333 | C5: =$A5 & " (optional)" -> ⅓ (optional) | D5: =$B5*VLOOKUP(D$1,Sheet3!$A:$B,2,FALSE) -> 1.665 | E5: =$B5*VLOOKUP(E$1,Sheet3!$A:$B,2,FALSE) -> 2.4975 | F5: =$B5*VLOOKUP(F$1,Sheet3!$A:$B,2,FALSE) -> 4.995 | G5: =$B5*VLOOKUP(G$1,Sheet3!$A:$B,2,FALSE) -> 17.4825 | H5: =$B5*VLOOKUP(H$1,Sheet3!$A:$B,2,FALSE) -> 26.64 | I5: =$B5*VLOOKUP(I$1,Sheet3!$A:$B,2,FALSE) -> 26.64 | J5: =$B5*VLOOKUP(J$1,Sheet3!$A:$B,2,FALSE) -> 79.92
A6: ½ | B6: 0.5 | C6: =$A6 & " (optional)" -> ½ (optional) | D6: =$B6*VLOOKUP(D$1,Sheet3!$A:$B,2,FALSE) -> 2.5 | E6: =$B6*VLOOKUP(E$1,Sheet3!$A:$B,2,FALSE) -> 3.75 | F6: =$B6*VLOOKUP(F$1,Sheet3!$A:$B,2,FALSE) -> 7.5 | G6: =$B6*VLOOKUP(G$1,Sheet3!$A:$B,2,FALSE) -> 26.25 | H6: =$B6*VLOOKUP(H$1,Sheet3!$A:$B,2,FALSE) -> 40 | I6: =$B6*VLOOKUP(I$1,Sheet3!$A:$B,2,FALSE) -> 40 | J6: =$B6*VLOOKUP(J$1,Sheet3!$A:$B,2,FALSE) -> 120
A7: ⅔ | B7: 0.667 | C7: =$A7 & " (optional)" -> ⅔ (optional) | D7: =$B7*VLOOKUP(D$1,Sheet3!$A:$B,2,FALSE) -> 3.335 | E7: =$B7*VLOOKUP(E$1,Sheet3!$A:$B,2,FALSE) -> 5.0025 | F7: =$B7*VLOOKUP(F$1,Sheet3!$A:$B,2,FALSE) -> 10.005 | G7: =$B7*VLOOKUP(G$1,Sheet3!$A:$B,2,FALSE) -> 35.0175 | H7: =$B7*VLOOKUP(H$1,Sheet3!$A:$B,2,FALSE) -> 53.36 | I7: =$B7*VLOOKUP(I$1,Sheet3!$A:$B,2,FALSE) -> 53.36 | J7: =$B7*VLOOKUP(J$1,Sheet3!$A:$B,2,FALSE) -> 160.08
A8: ¾ | B8: 0.75 | C8: =$A8 & " (optional)" -> ¾ (optional) | D8: =$B8*VLOOKUP(D$1,Sheet3!$A:$B,2,FALSE) -> 3.75 | E8: =$B8*VLOOKUP(E$1,Sheet3!$A:$B,2,FALSE) -> 5.625 | F8: =$B8*VLOOKUP(F$1,Sheet3!$A:$B,2,FALSE) -> 11.25 | G8: =$B8*VLOOKUP(G$1,Sheet3!$A:$B,2,FALSE) -> 39.375 | H8: =$B8*VLOOKUP(H$1,Sheet3!$A:$B,2,FALSE) -> 60 | I8: =$B8*VLOOKUP(I$1,Sheet3!$A:$B,2,FALSE) -> 60 | J8: =$B8*VLOOKUP(J$1,Sheet3!$A:$B,2,FALSE) -> 180
A9: 1 | B9: 1 | C9: =$A9 & " (optional)" -> 1 (optional) | D9: =$B9*VLOOKUP(D$1,Sheet3!$A:$B,2,FALSE) -> 5 | E9: =$B9*VLOOKUP(E$1,Sheet3!$A:$B,2,FALSE) -> 7.5 | F9: =$B9*VLOOKUP(F$1,Sheet3!$A:$B,2,FALSE) -> 15 | G9: =$B9*VLOOKUP(G$1,Sheet3!$A:$B,2,FALSE) -> 52.5 | H9: =$B9*VLOOKUP(H$1,Sheet3!$A:$B,2,FALSE) -> 80 | I9: =$B9*VLOOKUP(I$1,Sheet3!$A:$B,2,FALSE) -> 80 | J9: =$B9*VLOOKUP(J$1,Sheet3!$A:$B,2,FALSE) -> 240
A10: 1+ | B10: 1+ | C10: =$A10 & " (optional)" -> 1+ (optional) | D10: =D9 & "+" -> 5+ | E10: =E9 & "+" -> 7.5+ | F10: =F9 & "+" -> 15+ | G10: =G9 & "+" -> 52.5+ | H10: =H9 & "+" -> 80+ | I10: =I9 & "+" -> 80+ | J10: =J9 & "+" -> 240+
A11: 1⅓ | B11: 1.333 | C11: =$A11 & " (optional)" -> 1⅓ (optional) | D11: =$B11*VLOOKUP(D$1,Sheet3!$A:$B,2,FALSE) -> 6.665 | E11: =$B11*VLOOKUP(E$1,Sheet3!$A:$B,2,FALSE) -> 9.9975 | F11: =$B11*VLOOKUP(F$1,Sheet3!$A:$B,2,FALSE) -> 19.995 | G11: =$B11*VLOOKUP(G$1,Sheet3!$A:$B,2,FALSE) -> 69.9825 | H11: =$B11*VLOOKUP(H$1,Sheet3!$A:$B,2,FALSE) -> 106.64 | I11: =$B11*VLOOKUP(I$1,Sheet3!$A:$B,2,FALSE) -> 106.64 | J11: =$B11*VLOOKUP(J$1,Sheet3!$A:$B,2,FALSE) -> 319.92
A12: 1½ | B12: 1.5 | C12: =$A12 & " (optional)" -> 1½ (optional) | D12: =$B12*VLOOKUP(D$1,Sheet3!$A:$B,2,FALSE) -> 7.5 | E12: =$B12*VLOOKUP(E$1,Sheet3!$A:$B,2,FALSE) -> 11.25 | F12: =$B12*VLOOKUP(F$1,Sheet3!$A:$B,2,FALSE) -> 22.5 | G12: =$B12*VLOOKUP(G$1,Sheet3!$A:$B,2,FALSE) -> 78.75 | H12: =$B12*VLOOKUP(H$1,Sheet3!$A:$B,2,FALSE) -> 120 | I12: =$B12*VLOOKUP(I$1,Sheet3!$A:$B,2,FALSE) -> 120 | J12: =$B12*VLOOKUP(J$1,Sheet3!$A:$B,2,FALSE) -> 360
A13: 1–2 | B13: 1–2 | C13: =$A13 & " (optional)" -> 1–2 (optional) | D13: =D9 & "–" & 2*D9 -> 5–10 | E13: =E9 & "–" & 2*E9 -> 7.5–15 | F13: =F9 & "–" & 2*F9 -> 15–30 | G13: =G9 & "–" & 2*G9 -> 52.5–105 | H13: =H9 & "–" & 2*H9 -> 80–160 | I13: =I9 & "–" & 2*I9 -> 80–160 | J13: =J9 & "–" & 2*J9 -> 240–480
A14: 2 | B14: 2 | C14: =$A14 & " (optional)" -> 2 (optional) | D14: =$B14*VLOOKUP(D$1,Sheet3!$A:$B,2,FALSE) -> 10 | E14: =$B14*VLOOKUP(E$1,Sheet3!$A:$B,2,FALSE) -> 15 | F14: =$B14*VLOOKUP(F$1,Sheet3!$A:$B,2,FALSE) -> 30 | G14: =$B14*VLOOKUP(G$1,Sheet3!$A:$B,2,FALSE) -> 105 | H14: =$B14*VLOOKUP(H$1,Sheet3!$A:$B,2,FALSE) -> 160 | I14: =$B14*VLOOKUP(I$1,Sheet3!$A:$B,2,FALSE) -> 160 | J14: =$B14*VLOOKUP(J$1,Sheet3!$A:$B,2,FALSE) -> 480
A15: 3½ | B15: 3.5 | C15: =$A15 & " (optional)" -> 3½ (optional) | D15: =$B15*VLOOKUP(D$1,Sheet3!$A:$B,2,FALSE) -> 17.5 | E15: =$B15*VLOOKUP(E$1,Sheet3!$A:$B,2,FALSE) -> 26.25 | F15: =$B15*VLOOKUP(F$1,Sheet3!$A:$B,2,FALSE) -> 52.5 | G15: =$B15*VLOOKUP(G$1,Sheet3!$A:$B,2,FALSE) -> 183.75 | H15: =$B15*VLOOKUP(H$1,Sheet3!$A:$B,2,FALSE) -> 280 | I15: =$B15*VLOOKUP(I$1,Sheet3!$A:$B,2,FALSE) -> 280 | J15: =$B15*VLOOKUP(J$1,Sheet3!$A:$B,2,FALSE) -> 840
A16: $n$ | B16: $n$ | C16: =$A16 & " (optional)" -> $n$ (optional) | D16: =$A16 -> $n$ | E16: =$A16 -> $n$ | F16: =$A16 -> $n$ | G16: =$A16 -> $n$ | H16: =$A16 -> $n$ | I16: =$A16 -> $n$ | J16: =$A16 -> $n$

Sheet Sheet3
A1: chsp | B1: =3.5*15 -> 52.5
A2: cup | B2: 240
A3: good pinch | B3: 7.5
A4: ladle | B4: 80
A5: ladles | B5: 80
A6: optional | B6: 1
A7: tbsp | B7: 15
A8: tsp | B8: 5
A9: units | B9: 1
